BEGIN:VCALENDAR
VERSION:2.0
PRODID:-//Club STEPHEN KING - ECPv6.15.20//NONSGML v1.0//EN
CALSCALE:GREGORIAN
METHOD:PUBLISH
X-ORIGINAL-URL:https://club-stephenking.fr
X-WR-CALDESC:Évènements pour Club STEPHEN KING
REFRESH-INTERVAL;VALUE=DURATION:PT1H
X-Robots-Tag:noindex
X-PUBLISHED-TTL:PT1H
BEGIN:VTIMEZONE
TZID:Europe/Paris
BEGIN:DAYLIGHT
TZOFFSETFROM:+0100
TZOFFSETTO:+0200
TZNAME:CEST
DTSTART:20170326T010000
END:DAYLIGHT
BEGIN:STANDARD
TZOFFSETFROM:+0200
TZOFFSETTO:+0100
TZNAME:CET
DTSTART:20171029T010000
END:STANDARD
BEGIN:DAYLIGHT
TZOFFSETFROM:+0100
TZOFFSETTO:+0200
TZNAME:CEST
DTSTART:20180325T010000
END:DAYLIGHT
BEGIN:STANDARD
TZOFFSETFROM:+0200
TZOFFSETTO:+0100
TZNAME:CET
DTSTART:20181028T010000
END:STANDARD
BEGIN:DAYLIGHT
TZOFFSETFROM:+0100
TZOFFSETTO:+0200
TZNAME:CEST
DTSTART:20190331T010000
END:DAYLIGHT
BEGIN:STANDARD
TZOFFSETFROM:+0200
TZOFFSETTO:+0100
TZNAME:CET
DTSTART:20191027T010000
END:STANDARD
END:VTIMEZONE
BEGIN:VEVENT
DTSTART;VALUE=DATE:20180606
DTEND;VALUE=DATE:20180607
DTSTAMP:20260422T074924
CREATED:20180507T211054Z
LAST-MODIFIED:20180929T144536Z
UID:7872-1528243200-1528329599@club-stephenking.fr
SUMMARY:Sleeping Beauties\, livre audio\, Audiolib
DESCRIPTION:SLEEPING BEAUTIES\nLivre audio\nAudiolib
URL:https://club-stephenking.fr/event/sleeping-beauties-livre-audio-audiolib
LOCATION:Librairies et amazon
END:VEVENT
BEGIN:VEVENT
DTSTART;VALUE=DATE:20180606
DTEND;VALUE=DATE:20180607
DTSTAMP:20260422T074924
CREATED:20180530T115421Z
LAST-MODIFIED:20180929T144516Z
UID:8419-1528243200-1528329599@club-stephenking.fr
SUMMARY:L'homme feu\, de Joe Hill (LLDP)
DESCRIPTION:L’homme feu\nde Joe Hill\nLe Livre de Poche
URL:https://club-stephenking.fr/event/lhomme-feu-de-joe-hill-lldp
LOCATION:Librairies et amazon
END:VEVENT
END:VCALENDAR