BEGIN:VCALENDAR
VERSION:2.0
PRODID:-//Club STEPHEN KING - ECPv6.15.20//NONSGML v1.0//EN
CALSCALE:GREGORIAN
METHOD:PUBLISH
X-ORIGINAL-URL:https://club-stephenking.fr
X-WR-CALDESC:Évènements pour Club STEPHEN KING
REFRESH-INTERVAL;VALUE=DURATION:PT1H
X-Robots-Tag:noindex
X-PUBLISHED-TTL:PT1H
BEGIN:VTIMEZONE
TZID:Europe/Paris
BEGIN:DAYLIGHT
TZOFFSETFROM:+0100
TZOFFSETTO:+0200
TZNAME:CEST
DTSTART:20170326T010000
END:DAYLIGHT
BEGIN:STANDARD
TZOFFSETFROM:+0200
TZOFFSETTO:+0100
TZNAME:CET
DTSTART:20171029T010000
END:STANDARD
BEGIN:DAYLIGHT
TZOFFSETFROM:+0100
TZOFFSETTO:+0200
TZNAME:CEST
DTSTART:20180325T010000
END:DAYLIGHT
BEGIN:STANDARD
TZOFFSETFROM:+0200
TZOFFSETTO:+0100
TZNAME:CET
DTSTART:20181028T010000
END:STANDARD
BEGIN:DAYLIGHT
TZOFFSETFROM:+0100
TZOFFSETTO:+0200
TZNAME:CEST
DTSTART:20190331T010000
END:DAYLIGHT
BEGIN:STANDARD
TZOFFSETFROM:+0200
TZOFFSETTO:+0100
TZNAME:CET
DTSTART:20191027T010000
END:STANDARD
END:VTIMEZONE
BEGIN:VEVENT
DTSTART;VALUE=DATE:20180822
DTEND;VALUE=DATE:20180823
DTSTAMP:20260422T044155
CREATED:20180630T140603Z
LAST-MODIFIED:20180929T144458Z
UID:9060-1534896000-1534982399@club-stephenking.fr
SUMMARY:Mr Mercedes\, saison 2 (USA)
DESCRIPTION:Début de la diffusion de la saison 2 de MR MERCEDES\, aux USA \n  \n \n  \n  \n 
URL:https://club-stephenking.fr/event/mr-mercedes-saison-2-usa
LOCATION:Librairies et amazon
ATTACH;FMTTYPE=image/jpeg:https://club-stephenking.fr/wp-content/uploads/mr.-mercedes-season-2-1.jpg
END:VEVENT
END:VCALENDAR