BEGIN:VCALENDAR
VERSION:2.0
PRODID:-//Club STEPHEN KING - ECPv6.15.20//NONSGML v1.0//EN
CALSCALE:GREGORIAN
METHOD:PUBLISH
X-WR-CALNAME:Club STEPHEN KING
X-ORIGINAL-URL:https://club-stephenking.fr
X-WR-CALDESC:Évènements pour Club STEPHEN KING
REFRESH-INTERVAL;VALUE=DURATION:PT1H
X-Robots-Tag:noindex
X-PUBLISHED-TTL:PT1H
BEGIN:VTIMEZONE
TZID:Europe/Paris
BEGIN:DAYLIGHT
TZOFFSETFROM:+0100
TZOFFSETTO:+0200
TZNAME:CEST
DTSTART:20170326T010000
END:DAYLIGHT
BEGIN:STANDARD
TZOFFSETFROM:+0200
TZOFFSETTO:+0100
TZNAME:CET
DTSTART:20171029T010000
END:STANDARD
BEGIN:DAYLIGHT
TZOFFSETFROM:+0100
TZOFFSETTO:+0200
TZNAME:CEST
DTSTART:20180325T010000
END:DAYLIGHT
BEGIN:STANDARD
TZOFFSETFROM:+0200
TZOFFSETTO:+0100
TZNAME:CET
DTSTART:20181028T010000
END:STANDARD
BEGIN:DAYLIGHT
TZOFFSETFROM:+0100
TZOFFSETTO:+0200
TZNAME:CEST
DTSTART:20190331T010000
END:DAYLIGHT
BEGIN:STANDARD
TZOFFSETFROM:+0200
TZOFFSETTO:+0100
TZNAME:CET
DTSTART:20191027T010000
END:STANDARD
END:VTIMEZONE
BEGIN:VEVENT
DTSTART;VALUE=DATE:20180829
DTEND;VALUE=DATE:20180830
DTSTAMP:20260422T025536
CREATED:20180507T211204Z
LAST-MODIFIED:20180507T211204Z
UID:7876-1535500800-1535587199@club-stephenking.fr
SUMMARY:Anatomie de l'horreur\, réédition\, Albin Michel
DESCRIPTION:ANATOMIE DE L’HORREUR\nRéédition\nAlbin Michel
URL:https://club-stephenking.fr/event/anatomie-de-lhorreur-reedition-albin-michel
END:VEVENT
BEGIN:VEVENT
DTSTART;VALUE=DATE:20180829
DTEND;VALUE=DATE:20180830
DTSTAMP:20260422T025536
CREATED:20180704T194100Z
LAST-MODIFIED:20180725T111540Z
UID:9151-1535500800-1535587199@club-stephenking.fr
SUMMARY:Anatomie de l'horreur\, avec 2 essais inédits !
DESCRIPTION:Anatomie de l’horreur\nde Stephen King\nVersion révisée avec 2 préfaces inédites !\nRéédition Albin Michel \n 
URL:https://club-stephenking.fr/event/anatomie-de-lhorreur-avec-2-essais-inedits
END:VEVENT
END:VCALENDAR