BEGIN:VCALENDAR
VERSION:2.0
PRODID:-//Club STEPHEN KING - ECPv6.15.20//NONSGML v1.0//EN
CALSCALE:GREGORIAN
METHOD:PUBLISH
X-WR-CALNAME:Club STEPHEN KING
X-ORIGINAL-URL:https://club-stephenking.fr
X-WR-CALDESC:Évènements pour Club STEPHEN KING
REFRESH-INTERVAL;VALUE=DURATION:PT1H
X-Robots-Tag:noindex
X-PUBLISHED-TTL:PT1H
BEGIN:VTIMEZONE
TZID:Europe/Paris
BEGIN:DAYLIGHT
TZOFFSETFROM:+0100
TZOFFSETTO:+0200
TZNAME:CEST
DTSTART:20170326T010000
END:DAYLIGHT
BEGIN:STANDARD
TZOFFSETFROM:+0200
TZOFFSETTO:+0100
TZNAME:CET
DTSTART:20171029T010000
END:STANDARD
BEGIN:DAYLIGHT
TZOFFSETFROM:+0100
TZOFFSETTO:+0200
TZNAME:CEST
DTSTART:20180325T010000
END:DAYLIGHT
BEGIN:STANDARD
TZOFFSETFROM:+0200
TZOFFSETTO:+0100
TZNAME:CET
DTSTART:20181028T010000
END:STANDARD
BEGIN:DAYLIGHT
TZOFFSETFROM:+0100
TZOFFSETTO:+0200
TZNAME:CEST
DTSTART:20190331T010000
END:DAYLIGHT
BEGIN:STANDARD
TZOFFSETFROM:+0200
TZOFFSETTO:+0100
TZNAME:CET
DTSTART:20191027T010000
END:STANDARD
END:VTIMEZONE
BEGIN:VEVENT
DTSTART;VALUE=DATE:20180921
DTEND;VALUE=DATE:20180922
DTSTAMP:20260422T025532
CREATED:20180821T103951Z
LAST-MODIFIED:20180927T100001Z
UID:10522-1537488000-1537574399@club-stephenking.fr
SUMMARY:King of Halloween : rééditions britanniques
DESCRIPTION:A l’occasion de l’anniversaire de Stephen King\, le 21 septembre\, les éditions Hodder & Stoughton propose au travers de « King of Halloween » des rééditions de livres de Stephen King\, avec  des couvertures retro ! \n\nTous les détails sur ces rééditions
URL:https://club-stephenking.fr/event/king-of-halloween-reeditions-britanniques
LOCATION:Librairies et amazon
ATTACH;FMTTYPE=image/jpeg:https://club-stephenking.fr/wp-content/uploads/king-of-halloween-hodder.jpg
END:VEVENT
END:VCALENDAR