BEGIN:VCALENDAR
VERSION:2.0
PRODID:-//Club STEPHEN KING - ECPv6.15.20//NONSGML v1.0//EN
CALSCALE:GREGORIAN
METHOD:PUBLISH
X-WR-CALNAME:Club STEPHEN KING
X-ORIGINAL-URL:https://club-stephenking.fr
X-WR-CALDESC:Évènements pour Club STEPHEN KING
REFRESH-INTERVAL;VALUE=DURATION:PT1H
X-Robots-Tag:noindex
X-PUBLISHED-TTL:PT1H
BEGIN:VTIMEZONE
TZID:Europe/Paris
BEGIN:DAYLIGHT
TZOFFSETFROM:+0100
TZOFFSETTO:+0200
TZNAME:CEST
DTSTART:20170326T010000
END:DAYLIGHT
BEGIN:STANDARD
TZOFFSETFROM:+0200
TZOFFSETTO:+0100
TZNAME:CET
DTSTART:20171029T010000
END:STANDARD
BEGIN:DAYLIGHT
TZOFFSETFROM:+0100
TZOFFSETTO:+0200
TZNAME:CEST
DTSTART:20180325T010000
END:DAYLIGHT
BEGIN:STANDARD
TZOFFSETFROM:+0200
TZOFFSETTO:+0100
TZNAME:CET
DTSTART:20181028T010000
END:STANDARD
BEGIN:DAYLIGHT
TZOFFSETFROM:+0100
TZOFFSETTO:+0200
TZNAME:CEST
DTSTART:20190331T010000
END:DAYLIGHT
BEGIN:STANDARD
TZOFFSETFROM:+0200
TZOFFSETTO:+0100
TZNAME:CET
DTSTART:20191027T010000
END:STANDARD
END:VTIMEZONE
BEGIN:VEVENT
DTSTART;VALUE=DATE:20181030
DTEND;VALUE=DATE:20181031
DTSTAMP:20260421T231701
CREATED:20180507T211514Z
LAST-MODIFIED:20180927T100154Z
UID:7884-1540857600-1540943999@club-stephenking.fr
SUMMARY:Elevation\, roman\, version originale
DESCRIPTION:ELEVATION\nVersion originale \n  \n 
URL:https://club-stephenking.fr/event/elevation-roman-version-originale
LOCATION:Librairies et amazon
END:VEVENT
BEGIN:VEVENT
DTSTART;VALUE=DATE:20181030
DTEND;VALUE=DATE:20181031
DTSTAMP:20260421T231701
CREATED:20180705T220005Z
LAST-MODIFIED:20180927T095817Z
UID:9156-1540857600-1540943999@club-stephenking.fr
SUMMARY:Stephen King - American Master : A Creepy Corpus of Facts About Stephen King & His Work
DESCRIPTION:Stephen King\, American Master: A Creepy Corpus of Facts About Stephen King & His Work\nde Stephen Spignesi \nLivre en anglais\, littéralement : un effrayant corpus de faits au sujet de Stephen King et son oeuvre \n 
URL:https://club-stephenking.fr/event/stephen-king-american-master-a-creepy-corpus-of-facts-about-stephen-king-his-work
LOCATION:Librairies et amazon
END:VEVENT
END:VCALENDAR