BEGIN:VCALENDAR
VERSION:2.0
PRODID:-//Club STEPHEN KING - ECPv6.15.20//NONSGML v1.0//EN
CALSCALE:GREGORIAN
METHOD:PUBLISH
X-ORIGINAL-URL:https://club-stephenking.fr
X-WR-CALDESC:Évènements pour Club STEPHEN KING
REFRESH-INTERVAL;VALUE=DURATION:PT1H
X-Robots-Tag:noindex
X-PUBLISHED-TTL:PT1H
BEGIN:VTIMEZONE
TZID:Europe/Paris
BEGIN:DAYLIGHT
TZOFFSETFROM:+0100
TZOFFSETTO:+0200
TZNAME:CEST
DTSTART:20170326T010000
END:DAYLIGHT
BEGIN:STANDARD
TZOFFSETFROM:+0200
TZOFFSETTO:+0100
TZNAME:CET
DTSTART:20171029T010000
END:STANDARD
BEGIN:DAYLIGHT
TZOFFSETFROM:+0100
TZOFFSETTO:+0200
TZNAME:CEST
DTSTART:20180325T010000
END:DAYLIGHT
BEGIN:STANDARD
TZOFFSETFROM:+0200
TZOFFSETTO:+0100
TZNAME:CET
DTSTART:20181028T010000
END:STANDARD
BEGIN:DAYLIGHT
TZOFFSETFROM:+0100
TZOFFSETTO:+0200
TZNAME:CEST
DTSTART:20190331T010000
END:DAYLIGHT
BEGIN:STANDARD
TZOFFSETFROM:+0200
TZOFFSETTO:+0100
TZNAME:CET
DTSTART:20191027T010000
END:STANDARD
END:VTIMEZONE
BEGIN:VEVENT
DTSTART;TZID=Europe/Paris:20181205T235500
DTEND;TZID=Europe/Paris:20181206T010000
DTSTAMP:20260421T213659
CREATED:20181130T133744Z
LAST-MODIFIED:20181130T133744Z
UID:17013-1544054100-1544058000@club-stephenking.fr
SUMMARY:21cm : avec Maxime Chattam
DESCRIPTION:« 21cm » : programme Canal+ présenté par Augustin Trappenard\navec Maxime Chattam \n\n \n\n😱 « J’apprends à construire sur les peurs des autres un moyen de me rassurer. » \nPassez une nuit avec le plus taré de nos romanciers… @ChattamMaxime (Éditions @AlbinMichel) sera l’invité d’@ATrapenard le mercredi 5 décembre à 23H55 sur CANAL+ !#21Centimètres \n— CANAL+ (@canalplus) November 29\, 2018
URL:https://club-stephenking.fr/event/21cm-avec-maxime-chattam
LOCATION:Canal+
END:VEVENT
END:VCALENDAR