BEGIN:VCALENDAR
VERSION:2.0
PRODID:-//Club STEPHEN KING - ECPv6.15.20//NONSGML v1.0//EN
CALSCALE:GREGORIAN
METHOD:PUBLISH
X-WR-CALNAME:Club STEPHEN KING
X-ORIGINAL-URL:https://club-stephenking.fr
X-WR-CALDESC:Évènements pour Club STEPHEN KING
REFRESH-INTERVAL;VALUE=DURATION:PT1H
X-Robots-Tag:noindex
X-PUBLISHED-TTL:PT1H
BEGIN:VTIMEZONE
TZID:Europe/Paris
BEGIN:DAYLIGHT
TZOFFSETFROM:+0100
TZOFFSETTO:+0200
TZNAME:CEST
DTSTART:20180325T010000
END:DAYLIGHT
BEGIN:STANDARD
TZOFFSETFROM:+0200
TZOFFSETTO:+0100
TZNAME:CET
DTSTART:20181028T010000
END:STANDARD
BEGIN:DAYLIGHT
TZOFFSETFROM:+0100
TZOFFSETTO:+0200
TZNAME:CEST
DTSTART:20190331T010000
END:DAYLIGHT
BEGIN:STANDARD
TZOFFSETFROM:+0200
TZOFFSETTO:+0100
TZNAME:CET
DTSTART:20191027T010000
END:STANDARD
BEGIN:DAYLIGHT
TZOFFSETFROM:+0100
TZOFFSETTO:+0200
TZNAME:CEST
DTSTART:20200329T010000
END:DAYLIGHT
BEGIN:STANDARD
TZOFFSETFROM:+0200
TZOFFSETTO:+0100
TZNAME:CET
DTSTART:20201025T010000
END:STANDARD
END:VTIMEZONE
BEGIN:VEVENT
DTSTART;VALUE=DATE:20190424
DTEND;VALUE=DATE:20190425
DTSTAMP:20260421T152407
CREATED:20190128T201054Z
LAST-MODIFIED:20190128T201145Z
UID:22465-1556064000-1556150399@club-stephenking.fr
SUMMARY:Simetierre (1989) : réédition bluray
DESCRIPTION:Simetierre (1989) : réédition bluray\nParamount France\navec de nombreux bonus \nDétails de cette réédition de « Simetierre » (1989\, bluray\, riche en bonus)
URL:https://club-stephenking.fr/event/simetierre-1989-reedition-bluray
LOCATION:Librairies et amazon
END:VEVENT
END:VCALENDAR