BEGIN:VCALENDAR
VERSION:2.0
PRODID:-//Club STEPHEN KING - ECPv6.15.20//NONSGML v1.0//EN
CALSCALE:GREGORIAN
METHOD:PUBLISH
X-WR-CALNAME:Club STEPHEN KING
X-ORIGINAL-URL:https://club-stephenking.fr
X-WR-CALDESC:Évènements pour Club STEPHEN KING
REFRESH-INTERVAL;VALUE=DURATION:PT1H
X-Robots-Tag:noindex
X-PUBLISHED-TTL:PT1H
BEGIN:VTIMEZONE
TZID:Europe/Paris
BEGIN:DAYLIGHT
TZOFFSETFROM:+0100
TZOFFSETTO:+0200
TZNAME:CEST
DTSTART:20180325T010000
END:DAYLIGHT
BEGIN:STANDARD
TZOFFSETFROM:+0200
TZOFFSETTO:+0100
TZNAME:CET
DTSTART:20181028T010000
END:STANDARD
BEGIN:DAYLIGHT
TZOFFSETFROM:+0100
TZOFFSETTO:+0200
TZNAME:CEST
DTSTART:20190331T010000
END:DAYLIGHT
BEGIN:STANDARD
TZOFFSETFROM:+0200
TZOFFSETTO:+0100
TZNAME:CET
DTSTART:20191027T010000
END:STANDARD
BEGIN:DAYLIGHT
TZOFFSETFROM:+0100
TZOFFSETTO:+0200
TZNAME:CEST
DTSTART:20200329T010000
END:DAYLIGHT
BEGIN:STANDARD
TZOFFSETFROM:+0200
TZOFFSETTO:+0100
TZNAME:CET
DTSTART:20201025T010000
END:STANDARD
END:VTIMEZONE
BEGIN:VEVENT
DTSTART;VALUE=DATE:20190622
DTEND;VALUE=DATE:20190623
DTSTAMP:20260421T121556
CREATED:20190531T160141Z
LAST-MODIFIED:20190531T160141Z
UID:26366-1561161600-1561247999@club-stephenking.fr
SUMMARY:Shining - version longue restaurée - diffusion au Grand Rex
DESCRIPTION:Diffusion de la version longue du film « The Shining »\, la nouvelle version restaurée\, sera diffusée le 22 juin à 20h30 au cinéma Grand Rex\, à Paris.\n> Si vous souhaitez commander une place \n\nCette version longue restaurée sortira en octobre 2019 en bluray 4K ultra HD\n> Plus d’informations sur la version longue restaurée  \n  \n \n 
URL:https://club-stephenking.fr/event/shining-version-longue-restauree-diffusion-au-grand-rex
END:VEVENT
END:VCALENDAR