BEGIN:VCALENDAR
VERSION:2.0
PRODID:-//Club STEPHEN KING - ECPv6.15.20//NONSGML v1.0//EN
CALSCALE:GREGORIAN
METHOD:PUBLISH
X-WR-CALNAME:Club STEPHEN KING
X-ORIGINAL-URL:https://club-stephenking.fr
X-WR-CALDESC:Évènements pour Club STEPHEN KING
REFRESH-INTERVAL;VALUE=DURATION:PT1H
X-Robots-Tag:noindex
X-PUBLISHED-TTL:PT1H
BEGIN:VTIMEZONE
TZID:Europe/Paris
BEGIN:DAYLIGHT
TZOFFSETFROM:+0100
TZOFFSETTO:+0200
TZNAME:CEST
DTSTART:20200329T010000
END:DAYLIGHT
BEGIN:STANDARD
TZOFFSETFROM:+0200
TZOFFSETTO:+0100
TZNAME:CET
DTSTART:20201025T010000
END:STANDARD
BEGIN:DAYLIGHT
TZOFFSETFROM:+0100
TZOFFSETTO:+0200
TZNAME:CEST
DTSTART:20210328T010000
END:DAYLIGHT
BEGIN:STANDARD
TZOFFSETFROM:+0200
TZOFFSETTO:+0100
TZNAME:CET
DTSTART:20211031T010000
END:STANDARD
BEGIN:DAYLIGHT
TZOFFSETFROM:+0100
TZOFFSETTO:+0200
TZNAME:CEST
DTSTART:20220327T010000
END:DAYLIGHT
BEGIN:STANDARD
TZOFFSETFROM:+0200
TZOFFSETTO:+0100
TZNAME:CET
DTSTART:20221030T010000
END:STANDARD
END:VTIMEZONE
BEGIN:VEVENT
DTSTART;VALUE=DATE:20210119
DTEND;VALUE=DATE:20210120
DTSTAMP:20260420T105437
CREATED:20201230T212333Z
LAST-MODIFIED:20201230T212547Z
UID:40964-1611014400-1611100799@club-stephenking.fr
SUMMARY:[ENG] Stephen King Dollar Baby : the book\, chez Bear Media Manor
DESCRIPTION:« Stephen King Dollar Baby : the book » \nLivre américain\, en version originale\, au sujet des dollars babies. Les courts métrages adaptant Stephen King pour un dollar symbolique\, sous la contrainte de certaines règles…\nD’Anthony Northrup\, chez Bear Media Manor\, le 19 janvier 2021 \n> Pour tout savoir sur ce livre \n  \nPour le commander (broché puis relié) :\n \n  \n \n  \n  \n 
URL:https://club-stephenking.fr/event/stephen-king-dollar-baby-the-book-eng-chez-bear-media-manpr
END:VEVENT
END:VCALENDAR