BEGIN:VCALENDAR
VERSION:2.0
PRODID:-//Club STEPHEN KING - ECPv6.15.20//NONSGML v1.0//EN
CALSCALE:GREGORIAN
METHOD:PUBLISH
X-ORIGINAL-URL:https://club-stephenking.fr
X-WR-CALDESC:Évènements pour Club STEPHEN KING
REFRESH-INTERVAL;VALUE=DURATION:PT1H
X-Robots-Tag:noindex
X-PUBLISHED-TTL:PT1H
BEGIN:VTIMEZONE
TZID:Europe/Paris
BEGIN:DAYLIGHT
TZOFFSETFROM:+0100
TZOFFSETTO:+0200
TZNAME:CEST
DTSTART:20180325T010000
END:DAYLIGHT
BEGIN:STANDARD
TZOFFSETFROM:+0200
TZOFFSETTO:+0100
TZNAME:CET
DTSTART:20181028T010000
END:STANDARD
BEGIN:DAYLIGHT
TZOFFSETFROM:+0100
TZOFFSETTO:+0200
TZNAME:CEST
DTSTART:20190331T010000
END:DAYLIGHT
BEGIN:STANDARD
TZOFFSETFROM:+0200
TZOFFSETTO:+0100
TZNAME:CET
DTSTART:20191027T010000
END:STANDARD
BEGIN:DAYLIGHT
TZOFFSETFROM:+0100
TZOFFSETTO:+0200
TZNAME:CEST
DTSTART:20200329T010000
END:DAYLIGHT
BEGIN:STANDARD
TZOFFSETFROM:+0200
TZOFFSETTO:+0100
TZNAME:CET
DTSTART:20201025T010000
END:STANDARD
END:VTIMEZONE
BEGIN:VEVENT
DTSTART;VALUE=DATE:20190206
DTEND;VALUE=DATE:20190207
DTSTAMP:20260421T165731
CREATED:20181016T200741Z
LAST-MODIFIED:20181016T200741Z
UID:13913-1549411200-1549497599@club-stephenking.fr
SUMMARY:Fin de Ronde (de Stephen King\, en poche chez Le Livre de Poche
DESCRIPTION:FIN DE RONDE \nde Stephen King \nen poche\nchez Le Livre de Poche \n 
URL:https://club-stephenking.fr/event/fin-de-ronde-de-stephen-king-en-poche-chez-le-livre-de-poche
LOCATION:Librairies et amazon
END:VEVENT
BEGIN:VEVENT
DTSTART;VALUE=DATE:20190209
DTEND;VALUE=DATE:20190210
DTSTAMP:20260421T165731
CREATED:20190209T170031Z
LAST-MODIFIED:20190209T170215Z
UID:23045-1549670400-1549756799@club-stephenking.fr
SUMMARY:"Creepshow 2"\, nouvelle édition bluray chez ESC Distribution
DESCRIPTION:Creepshow 2\nedition combo dvd + bluray + livret \nESC Distribution\nProposée en 2 couvertures différentes \n 
URL:https://club-stephenking.fr/event/creepshow-2-nouvelle-edition-bluray-chez-esc-distribution
LOCATION:Librairies et amazon
END:VEVENT
BEGIN:VEVENT
DTSTART;VALUE=DATE:20190218
DTEND;VALUE=DATE:20190219
DTSTAMP:20260421T165731
CREATED:20190202T163024Z
LAST-MODIFIED:20190202T163024Z
UID:22706-1550448000-1550534399@club-stephenking.fr
SUMMARY:Anatomie de l'horreur\, en livre audio
DESCRIPTION:Anatomie de l’horreur\nLivre audio\nAudible
URL:https://club-stephenking.fr/event/anatomie-de-lhorreur-en-livre-audio
ATTACH;FMTTYPE=image/jpeg:https://club-stephenking.fr/wp-content/uploads/2018/08/anatomie-de-l-horreur-stephenking-albin-michel-2018-cover.jpg
END:VEVENT
BEGIN:VEVENT
DTSTART;VALUE=DATE:20190226
DTEND;VALUE=DATE:20190227
DTSTAMP:20260421T165731
CREATED:20190223T181207Z
LAST-MODIFIED:20190223T181207Z
UID:23553-1551139200-1551225599@club-stephenking.fr
SUMMARY:Laurie\, une nouvelle inédite de Stephen King en ebook
DESCRIPTION:Laurie\nune nouvelle de Stephen King\nen français \nEditions : Albin Michel\nFormat : ebook  \n  \nTous les détails sur la version française de « Laurie » de Stephen King \n\n \n 
URL:https://club-stephenking.fr/event/laurie-une-nouvelle-inedite-de-stephen-king-en-ebook
END:VEVENT
END:VCALENDAR