BEGIN:VCALENDAR
VERSION:2.0
PRODID:-//Club STEPHEN KING - ECPv6.15.20//NONSGML v1.0//EN
CALSCALE:GREGORIAN
METHOD:PUBLISH
X-ORIGINAL-URL:https://club-stephenking.fr
X-WR-CALDESC:Évènements pour Club STEPHEN KING
REFRESH-INTERVAL;VALUE=DURATION:PT1H
X-Robots-Tag:noindex
X-PUBLISHED-TTL:PT1H
BEGIN:VTIMEZONE
TZID:Europe/Paris
BEGIN:DAYLIGHT
TZOFFSETFROM:+0100
TZOFFSETTO:+0200
TZNAME:CEST
DTSTART:20180325T010000
END:DAYLIGHT
BEGIN:STANDARD
TZOFFSETFROM:+0200
TZOFFSETTO:+0100
TZNAME:CET
DTSTART:20181028T010000
END:STANDARD
BEGIN:DAYLIGHT
TZOFFSETFROM:+0100
TZOFFSETTO:+0200
TZNAME:CEST
DTSTART:20190331T010000
END:DAYLIGHT
BEGIN:STANDARD
TZOFFSETFROM:+0200
TZOFFSETTO:+0100
TZNAME:CET
DTSTART:20191027T010000
END:STANDARD
BEGIN:DAYLIGHT
TZOFFSETFROM:+0100
TZOFFSETTO:+0200
TZNAME:CEST
DTSTART:20200329T010000
END:DAYLIGHT
BEGIN:STANDARD
TZOFFSETFROM:+0200
TZOFFSETTO:+0100
TZNAME:CET
DTSTART:20201025T010000
END:STANDARD
END:VTIMEZONE
BEGIN:VEVENT
DTSTART;VALUE=DATE:20190307
DTEND;VALUE=DATE:20190308
DTSTAMP:20260421T152809
CREATED:20190222T142937Z
LAST-MODIFIED:20190222T142937Z
UID:23394-1551916800-1552003199@club-stephenking.fr
SUMMARY:Diffusion de "Shining" dans le cadre de la nuit "Stanley Kubrick" de Canal+
DESCRIPTION:Diffusion de « Shining » pour célébrer le 20e anniversaire de la mort de Stanley Kubrick \nDiffusion sur Cine+ Frisson\, et non pas Canal+ \nTous les informations sur la diffusion de « Shining » pour la nuit Kubrick de Ciné+ Frissons
URL:https://club-stephenking.fr/event/diffusion-de-shining-dans-le-cadre-de-la-nuit-stanley-kubrick-de-canal
END:VEVENT
BEGIN:VEVENT
DTSTART;VALUE=DATE:20190329
DTEND;VALUE=DATE:20190330
DTSTAMP:20260421T152809
CREATED:20190318T123349Z
LAST-MODIFIED:20190318T123349Z
UID:24179-1553817600-1553903999@club-stephenking.fr
SUMMARY:Simetierre : avant-première dans les cinémas Kinepolis\,le 29 mars 2019
DESCRIPTION:Simetierre \nAvant première exclusive du film « Simetierre »\, dans les cinémas Kinepolis.\nCette avant première est vraiment exceptionnelle car se déroulera le 29 mars\, soit près de 2 semaines avant la sortie française grand publique!\nEt avant même la sortie américaine ! \n> Tous les détails \n 
URL:https://club-stephenking.fr/event/simetierre-kinepolis
ATTACH;FMTTYPE=image/jpeg:https://club-stephenking.fr/wp-content/uploads/2019/03/Simetierre-stephenking-lelivredepoche-2019-film-cover.jpg
END:VEVENT
END:VCALENDAR