BEGIN:VCALENDAR
VERSION:2.0
PRODID:-//Club STEPHEN KING - ECPv6.15.20//NONSGML v1.0//EN
CALSCALE:GREGORIAN
METHOD:PUBLISH
X-ORIGINAL-URL:https://club-stephenking.fr
X-WR-CALDESC:Évènements pour Club STEPHEN KING
REFRESH-INTERVAL;VALUE=DURATION:PT1H
X-Robots-Tag:noindex
X-PUBLISHED-TTL:PT1H
BEGIN:VTIMEZONE
TZID:Europe/Paris
BEGIN:DAYLIGHT
TZOFFSETFROM:+0100
TZOFFSETTO:+0200
TZNAME:CEST
DTSTART:20180325T010000
END:DAYLIGHT
BEGIN:STANDARD
TZOFFSETFROM:+0200
TZOFFSETTO:+0100
TZNAME:CET
DTSTART:20181028T010000
END:STANDARD
BEGIN:DAYLIGHT
TZOFFSETFROM:+0100
TZOFFSETTO:+0200
TZNAME:CEST
DTSTART:20190331T010000
END:DAYLIGHT
BEGIN:STANDARD
TZOFFSETFROM:+0200
TZOFFSETTO:+0100
TZNAME:CET
DTSTART:20191027T010000
END:STANDARD
BEGIN:DAYLIGHT
TZOFFSETFROM:+0100
TZOFFSETTO:+0200
TZNAME:CEST
DTSTART:20200329T010000
END:DAYLIGHT
BEGIN:STANDARD
TZOFFSETFROM:+0200
TZOFFSETTO:+0100
TZNAME:CET
DTSTART:20201025T010000
END:STANDARD
END:VTIMEZONE
BEGIN:VEVENT
DTSTART;VALUE=DATE:20190402
DTEND;VALUE=DATE:20190403
DTSTAMP:20260421T135612
CREATED:20190318T123701Z
LAST-MODIFIED:20190318T123748Z
UID:24182-1554163200-1554249599@club-stephenking.fr
SUMMARY:Simetierre : avant-première événementielle\, le 2 avril à Paris
DESCRIPTION:Simetierre \nAvant première exclusive et événementielle du film « Simetierre »\, le 2 avril 2019 alors que la sortie officielle est le 10 avril. \nDiffusion sur Paris\, dans le cinéma Pathé-Gaumont des Capucines.\nEt encore mieux : le prix de la place est tout simplement le tarif habituel d’une place de cinéma. Pas de tarif premium donc.\nSi vous êtes sur Paris\, foncez !  \n> Tous les détails \n 
URL:https://club-stephenking.fr/event/simetierre-avantpremiere-paris-2-avril
ATTACH;FMTTYPE=image/jpeg:https://club-stephenking.fr/wp-content/uploads/2019/03/Simetierre-stephenking-lelivredepoche-2019-film-cover.jpg
END:VEVENT
BEGIN:VEVENT
DTSTART;VALUE=DATE:20190403
DTEND;VALUE=DATE:20190404
DTSTAMP:20260421T135612
CREATED:20181225T115930Z
LAST-MODIFIED:20181225T120440Z
UID:18170-1554249600-1554335999@club-stephenking.fr
SUMMARY:ELEVATION\, de Stephen King : en français\, chez Le Livre de Poche
DESCRIPTION:Elévation\nde Stephen King\nIllustré par Mark Geyer\nEditions : Le Livre de Poche \nDate de publication : le 3 avril 2019\nPages : la version américaine fait environ 160 pages\nISBN : 978-1982102319 \n  \n \nCouverture américaine \n  \n 
URL:https://club-stephenking.fr/event/elevation-lelivredepoche-stephenking
LOCATION:Librairies et amazon
END:VEVENT
BEGIN:VEVENT
DTSTART;VALUE=DATE:20190403
DTEND;VALUE=DATE:20190404
DTSTAMP:20260421T135612
CREATED:20190305T142232Z
LAST-MODIFIED:20190305T142232Z
UID:23901-1554249600-1554335999@club-stephenking.fr
SUMMARY:Simetierre\, réédition Livre de Poche inspirée du poster du film
DESCRIPTION:SIMETIERRE\nde Stephen King \nRéédition du Livre de Poche\nCouverture inspirée du poster du film \n  \nTous les détails  \n  \n \n  \n 
URL:https://club-stephenking.fr/event/simetierre-reedition-livre-de-poche-inspiree-du-poster-du-film
LOCATION:Librairies et amazon
END:VEVENT
BEGIN:VEVENT
DTSTART;VALUE=DATE:20190405
DTEND;VALUE=DATE:20190406
DTSTAMP:20260421T135612
CREATED:20190216T180357Z
LAST-MODIFIED:20190216T180357Z
UID:23234-1554422400-1554508799@club-stephenking.fr
SUMMARY:Simetierre (nouveau film) :  5 avril (USA)
DESCRIPTION:Simetierre\n(2019\, nouveau film) \n5 avril aux USA
URL:https://club-stephenking.fr/event/simetierre-2019-5-avril-usa
END:VEVENT
BEGIN:VEVENT
DTSTART;VALUE=DATE:20190410
DTEND;VALUE=DATE:20190411
DTSTAMP:20260421T135612
CREATED:20190121T100854Z
LAST-MODIFIED:20190216T180450Z
UID:22244-1554854400-1554940799@club-stephenking.fr
SUMMARY:Simetierre (nouveau film) : le 10 avril dans les cinémas français
DESCRIPTION:Simetierre\n(2019\, nouveau film) \nLe film était précédemment annoncé pour le 1er mai au cinéma en France\, mais la date a été avancée au 10 avril !  
URL:https://club-stephenking.fr/event/simetierre-nouveau-film-le-10-avril-dans-les-cinemas
END:VEVENT
BEGIN:VEVENT
DTSTART;TZID=Europe/Paris:20190412T080000
DTEND;TZID=Europe/Paris:20190413T170000
DTSTAMP:20260421T135612
CREATED:20190312T202600Z
LAST-MODIFIED:20190312T202705Z
UID:24092-1555056000-1555174800@club-stephenking.fr
SUMMARY:Dolores Claiborne\, la pièce de théâtre\, dans le département de la Loire
DESCRIPTION:Dolores Claiborne\nPièce de théâtre\nen France\, près de Lyon \nToutes les infos
URL:https://club-stephenking.fr/event/dolores-claiborne-theatre-loire
END:VEVENT
BEGIN:VEVENT
DTSTART;VALUE=DATE:20190417
DTEND;VALUE=DATE:20190418
DTSTAMP:20260421T135612
CREATED:20190117T193824Z
LAST-MODIFIED:20190117T193824Z
UID:22159-1555459200-1555545599@club-stephenking.fr
SUMMARY:"L'outsider" en livre audio
DESCRIPTION:L’OUTSIDER\nde Stephen King\nLivre audio\nAudiolib \nTous les détails de la version audio de « L’outsider » \n \n  \n 
URL:https://club-stephenking.fr/event/loutsider-en-livre-audio
LOCATION:Librairies et amazon
END:VEVENT
BEGIN:VEVENT
DTSTART;TZID=Europe/Paris:20190421T080000
DTEND;TZID=Europe/Paris:20190421T170000
DTSTAMP:20260421T135612
CREATED:20190422T120020Z
LAST-MODIFIED:20190421T183130Z
UID:25061-1555833600-1555866000@club-stephenking.fr
SUMMARY:"Georgie"\, diffusion streaming du court-métrage
DESCRIPTION:« Georgie »\nDiffusion streaming\, pour 48h\, du court métrage racontant la vie de « Georgie » après avoir échappé à Pennywise \n> Tous les détails
URL:https://club-stephenking.fr/event/georgie-courtmetrage
ATTACH;FMTTYPE=image/jpeg:https://club-stephenking.fr/wp-content/uploads/2018/08/georgie-court-metrage-ca-stephenking.jpg
END:VEVENT
BEGIN:VEVENT
DTSTART;VALUE=DATE:20190424
DTEND;VALUE=DATE:20190425
DTSTAMP:20260421T135612
CREATED:20190128T201054Z
LAST-MODIFIED:20190128T201145Z
UID:22465-1556064000-1556150399@club-stephenking.fr
SUMMARY:Simetierre (1989) : réédition bluray
DESCRIPTION:Simetierre (1989) : réédition bluray\nParamount France\navec de nombreux bonus \nDétails de cette réédition de « Simetierre » (1989\, bluray\, riche en bonus)
URL:https://club-stephenking.fr/event/simetierre-1989-reedition-bluray
LOCATION:Librairies et amazon
END:VEVENT
BEGIN:VEVENT
DTSTART;VALUE=DATE:20190429
DTEND;VALUE=DATE:20190430
DTSTAMP:20260421T135612
CREATED:20190218T200328Z
LAST-MODIFIED:20190218T200328Z
UID:23290-1556496000-1556582399@club-stephenking.fr
SUMMARY:Cujo\, édition collector du film
DESCRIPTION:Cujo\nEdition collector du film\nEureka Videos \n> Tous les détails  \n  \n \n 
URL:https://club-stephenking.fr/event/cujo-edition-collector-du-film
LOCATION:Librairies et amazon
ATTACH;FMTTYPE=image/jpeg:https://club-stephenking.fr/wp-content/uploads/2019/02/cujo-film-bluray-edition-limitee-eureka-classics-uk.jpg
END:VEVENT
END:VCALENDAR