BEGIN:VCALENDAR
VERSION:2.0
PRODID:-//Club STEPHEN KING - ECPv6.15.20//NONSGML v1.0//EN
CALSCALE:GREGORIAN
METHOD:PUBLISH
X-WR-CALNAME:Club STEPHEN KING
X-ORIGINAL-URL:https://club-stephenking.fr
X-WR-CALDESC:Évènements pour Club STEPHEN KING
REFRESH-INTERVAL;VALUE=DURATION:PT1H
X-Robots-Tag:noindex
X-PUBLISHED-TTL:PT1H
BEGIN:VTIMEZONE
TZID:Europe/Paris
BEGIN:DAYLIGHT
TZOFFSETFROM:+0100
TZOFFSETTO:+0200
TZNAME:CEST
DTSTART:20180325T010000
END:DAYLIGHT
BEGIN:STANDARD
TZOFFSETFROM:+0200
TZOFFSETTO:+0100
TZNAME:CET
DTSTART:20181028T010000
END:STANDARD
BEGIN:DAYLIGHT
TZOFFSETFROM:+0100
TZOFFSETTO:+0200
TZNAME:CEST
DTSTART:20190331T010000
END:DAYLIGHT
BEGIN:STANDARD
TZOFFSETFROM:+0200
TZOFFSETTO:+0100
TZNAME:CET
DTSTART:20191027T010000
END:STANDARD
BEGIN:DAYLIGHT
TZOFFSETFROM:+0100
TZOFFSETTO:+0200
TZNAME:CEST
DTSTART:20200329T010000
END:DAYLIGHT
BEGIN:STANDARD
TZOFFSETFROM:+0200
TZOFFSETTO:+0100
TZNAME:CET
DTSTART:20201025T010000
END:STANDARD
END:VTIMEZONE
BEGIN:VEVENT
DTSTART;VALUE=DATE:20190503
DTEND;VALUE=DATE:20190504
DTSTAMP:20260421T122734
CREATED:20190426T140634Z
LAST-MODIFIED:20190426T140634Z
UID:25231-1556841600-1556927999@club-stephenking.fr
SUMMARY:History of Horror uncut : podcast de l'interview de Stephen King par Eli Roth
DESCRIPTION:« History of Horror » uncut \nAprès avoir été brièvement disponible fin février\, puis retirée\, l’interview complète de Stephen King par Eli Roth pour le documentaire « History of Horror » revient sous la forme de podcast
URL:https://club-stephenking.fr/event/history-of-horror-uncut-podcast
ATTACH;FMTTYPE=image/jpeg:https://club-stephenking.fr/wp-content/uploads/2019/02/eli-roth-s-history-of-horror-uncut.jpg
END:VEVENT
BEGIN:VEVENT
DTSTART;VALUE=DATE:20190508
DTEND;VALUE=DATE:20190509
DTSTAMP:20260421T122734
CREATED:20190426T135018Z
LAST-MODIFIED:20190426T135051Z
UID:25227-1557273600-1557359999@club-stephenking.fr
SUMMARY:Podcast "Post Mortem" avec Stephen King pour les 25 ans du "Fléau"
DESCRIPTION:Podcast « Post Mortem » avec Stephen King pour les 25 ans du téléfilm le « Fléau » \nTous les détails de ce podcast avec Stephen King \n 
URL:https://club-stephenking.fr/event/podcast-postmortem-stephenking
ATTACH;FMTTYPE=image/jpeg:https://club-stephenking.fr/wp-content/uploads/2019/04/stephenking_thestand-lefleau.jpg
END:VEVENT
BEGIN:VEVENT
DTSTART;VALUE=DATE:20190509
DTEND;VALUE=DATE:20190510
DTSTAMP:20260421T122734
CREATED:20190506T165617Z
LAST-MODIFIED:20190506T165649Z
UID:25626-1557360000-1557446399@club-stephenking.fr
SUMMARY:CA Chapitre 2 : première bande annonce!
DESCRIPTION:Ca y est\, on approche : la première bande annonce de CA Chapitre 2 est annoncée pour le jeudi 9 mai 2019 ! \n\n> Découvrez toutes les informations sur le film « CA Chapitre 2 » \n 
URL:https://club-stephenking.fr/event/ca-chapitre-2-premiere-bande-annonce
END:VEVENT
BEGIN:VEVENT
DTSTART;VALUE=DATE:20190510
DTEND;VALUE=DATE:20190511
DTSTAMP:20260421T122734
CREATED:20190506T001537Z
LAST-MODIFIED:20190506T001537Z
UID:25609-1557446400-1557532799@club-stephenking.fr
SUMMARY:Concert des Rock Bottom Remainders
DESCRIPTION:Concert des Rock Bottom Remainders
URL:https://club-stephenking.fr/event/concert-des-rock-bottom-remainders-2
END:VEVENT
BEGIN:VEVENT
DTSTART;VALUE=DATE:20190511
DTEND;VALUE=DATE:20190512
DTSTAMP:20260421T122734
CREATED:20190506T162432Z
LAST-MODIFIED:20190506T162432Z
UID:25612-1557532800-1557619199@club-stephenking.fr
SUMMARY:Interview entre Stephen King et Benjamin Percy
DESCRIPTION:Rencontre / interview entre Stephen King et Benjamin Percy \nLors du festival Wordplay\, à Minneapolis
URL:https://club-stephenking.fr/event/interview-entre-stephen-king-et-benjamin-percy
END:VEVENT
END:VCALENDAR